BEGIN:VCALENDAR
VERSION:2.0
PRODID:-//SEMRA Plus - ECPv6.15.18//NONSGML v1.0//EN
CALSCALE:GREGORIAN
METHOD:PUBLISH
X-WR-CALNAME:SEMRA Plus
X-ORIGINAL-URL:https://www.semraplus.ch
X-WR-CALDESC:Évènements pour SEMRA Plus
REFRESH-INTERVAL;VALUE=DURATION:PT1H
X-Robots-Tag:noindex
X-PUBLISHED-TTL:PT1H
BEGIN:VTIMEZONE
TZID:Europe/Zurich
BEGIN:DAYLIGHT
TZOFFSETFROM:+0100
TZOFFSETTO:+0200
TZNAME:CEST
DTSTART:20230326T010000
END:DAYLIGHT
BEGIN:STANDARD
TZOFFSETFROM:+0200
TZOFFSETTO:+0100
TZNAME:CET
DTSTART:20231029T010000
END:STANDARD
BEGIN:DAYLIGHT
TZOFFSETFROM:+0100
TZOFFSETTO:+0200
TZNAME:CEST
DTSTART:20240331T010000
END:DAYLIGHT
BEGIN:STANDARD
TZOFFSETFROM:+0200
TZOFFSETTO:+0100
TZNAME:CET
DTSTART:20241027T010000
END:STANDARD
BEGIN:DAYLIGHT
TZOFFSETFROM:+0100
TZOFFSETTO:+0200
TZNAME:CEST
DTSTART:20250330T010000
END:DAYLIGHT
BEGIN:STANDARD
TZOFFSETFROM:+0200
TZOFFSETTO:+0100
TZNAME:CET
DTSTART:20251026T010000
END:STANDARD
BEGIN:DAYLIGHT
TZOFFSETFROM:+0100
TZOFFSETTO:+0200
TZNAME:CEST
DTSTART:20260329T010000
END:DAYLIGHT
BEGIN:STANDARD
TZOFFSETFROM:+0200
TZOFFSETTO:+0100
TZNAME:CET
DTSTART:20261025T010000
END:STANDARD
BEGIN:DAYLIGHT
TZOFFSETFROM:+0100
TZOFFSETTO:+0200
TZNAME:CEST
DTSTART:20270328T010000
END:DAYLIGHT
BEGIN:STANDARD
TZOFFSETFROM:+0200
TZOFFSETTO:+0100
TZNAME:CET
DTSTART:20271031T010000
END:STANDARD
END:VTIMEZONE
BEGIN:VEVENT
DTSTART;TZID=Europe/Zurich:20260419T140000
DTEND;TZID=Europe/Zurich:20260419T160000
DTSTAMP:20260422T132256
CREATED:20260330T185759Z
LAST-MODIFIED:20260330T194023Z
UID:34381-1776607200-1776614400@www.semraplus.ch
SUMMARY:Projection offerte aux Bénévoles à CinemAjoie
DESCRIPTION:En collaboration avec CinemAjoie\, nous offrons à nos bénévoles et amis\, même aux amis des amis (!)\, le magnifique fim sorti en décembre 2025 par la cinéaste franco-arménienne Tamara Stepanyan « Le Pays d’Arto » une vision intime de l’Arménie selon Le Temps.  \nDes paysages magnifiques et une trame captivante. \nLe film sera suivi d’une verrée offerte par SEMRAplus.
URL:https://www.semraplus.ch/event/projection-offerte-aux-benevoles-a-cinemajoie/
LOCATION:CinemAjoie\, Route de Belfort 16\, Porrentruy\, Jura\, 2900
CATEGORIES:Bénévoles
ATTACH;FMTTYPE=image/jpeg:https://www.semraplus.ch/wp-content/uploads/2026/03/Le-Pays-dArto.jpg
END:VEVENT
BEGIN:VEVENT
DTSTART;TZID=Europe/Zurich:20251026T170000
DTEND;TZID=Europe/Zurich:20251026T183000
DTSTAMP:20260422T132256
CREATED:20250914T144333Z
LAST-MODIFIED:20250917T191051Z
UID:34355-1761498000-1761503400@www.semraplus.ch
SUMMARY:JEUNES PRODIGES D'ARMENIE - CONCERT 2025
DESCRIPTION:BILLETS EN VENTE ICI
URL:https://www.semraplus.ch/event/jeunes-prodiges-darmenie-concert-2025/
LOCATION:Ancienne Eglise des Jésuites\, Pl. Blarer-de-Wartensee\, 2900 Porrentruy\, Porrentruy\, Jura\, 2900\, Switzerland
CATEGORIES:CONCERTS
END:VEVENT
BEGIN:VEVENT
DTSTART;TZID=Europe/Zurich:20250609T090000
DTEND;TZID=Europe/Zurich:20250609T180000
DTSTAMP:20260422T132256
CREATED:20250606T164319Z
LAST-MODIFIED:20250606T192303Z
UID:34149-1749459600-1749492000@www.semraplus.ch
SUMMARY:Brocante de Porrentruy
DESCRIPTION:La fondation SEMRAPLUS sera présente à deux endroits à la grande brocante qui se déroule à l’Allée des Soupirs ainsi qu’en vieille ville de Porrentruy.\n \nVous pourrez déguster le fameux gâteau aux patates\, cuisiné sur place\, devant la librairie du Pays\, côté Allée des Soupirs. C’est la nouvelle équipe des évènements qui sera au fourneau\, à la pâte\, à la caisse et elle vous y attend!\n \nAussi\, les infatigables Agnès Lüthi et Marianne Crevoisier pour l’occasion ont fait renaître la boutique ArtMénie (cf. photo).\n \n\n\n\nElles ont rassemblé des « breuilles » de toutes sortes\, de toutes époques\, même de divers continents et ont achalandé\, exposé\, mis en valeur tous ces trésors avec leur savoir faire professionnel qu’on leur connait. Ne manquez pas d’y passer mais surtout d’y entrer.\n 
URL:https://www.semraplus.ch/event/brocante-de-porrentruy-2025/
LOCATION:Porrentruy\, Porrentruy\, Jura\, 2900\, Switzerland
ATTACH;FMTTYPE=image/jpeg:https://www.semraplus.ch/wp-content/uploads/2022/08/IMG_0573-rotated.jpg
END:VEVENT
BEGIN:VEVENT
DTSTART;VALUE=DATE:20241103
DTEND;VALUE=DATE:20241104
DTSTAMP:20260422T132256
CREATED:20240911T124743Z
LAST-MODIFIED:20250703T193806Z
UID:33618-1730592000-1730678399@www.semraplus.ch
SUMMARY:Concert de piano de Mme Luciné Hakobyan
DESCRIPTION:La Fondation SEMRAPLUS\, par le biais de son équipe d’organisation d’événements culturels\, met sur pied à Porrentruy un concert de la pianiste LUCINE HAKOBYAN\, accompagnée d’Enzo Gafner et Dominique Schwimmer au profit de la Fondation. \nRéservez cette date dans vos agendas afin de participer nombreuses et nombreux à ce concert d’exception.
URL:https://www.semraplus.ch/event/concert-de-piano-de-mme-lucine-hakobyan/
LOCATION:Porrentruy\, Porrentruy\, Jura\, 2900\, Switzerland
ATTACH;FMTTYPE=image/jpeg:https://www.semraplus.ch/wp-content/uploads/2024/09/Lucine-Hakobyan-rotated.jpeg
END:VEVENT
BEGIN:VEVENT
DTSTART;VALUE=DATE:20240830
DTEND;VALUE=DATE:20240902
DTSTAMP:20260422T132256
CREATED:20240911T130504Z
LAST-MODIFIED:20240911T130703Z
UID:33624-1724976000-1725235199@www.semraplus.ch
SUMMARY:Braderie de Porrentruy
DESCRIPTION:La Fondation et ses fidèles bénévoles seront présents durant 3 jours à la Braderie de Porrentruy pour vous faire profiter du fameux gâteau aux patates. \nDurant ce week-end de fête\, venez nombreuses et nombreux soutenir les activités de la Fondation en dégustant un gâteau aux patates.
URL:https://www.semraplus.ch/event/braderie-de-porrentruy/
LOCATION:Porrentruy\, Porrentruy\, Jura\, 2900\, Switzerland
ATTACH;FMTTYPE=image/jpeg:https://www.semraplus.ch/wp-content/uploads/2024/09/Braderie-bar-Muzak.jpg
END:VEVENT
END:VCALENDAR