BEGIN:VCALENDAR
VERSION:2.0
PRODID:-//SEMRA Plus - ECPv6.15.18//NONSGML v1.0//EN
CALSCALE:GREGORIAN
METHOD:PUBLISH
X-WR-CALNAME:SEMRA Plus
X-ORIGINAL-URL:https://www.semraplus.ch
X-WR-CALDESC:Évènements pour SEMRA Plus
REFRESH-INTERVAL;VALUE=DURATION:PT1H
X-Robots-Tag:noindex
X-PUBLISHED-TTL:PT1H
BEGIN:VTIMEZONE
TZID:Europe/Zurich
BEGIN:DAYLIGHT
TZOFFSETFROM:+0100
TZOFFSETTO:+0200
TZNAME:CEST
DTSTART:20250330T010000
END:DAYLIGHT
BEGIN:STANDARD
TZOFFSETFROM:+0200
TZOFFSETTO:+0100
TZNAME:CET
DTSTART:20251026T010000
END:STANDARD
BEGIN:DAYLIGHT
TZOFFSETFROM:+0100
TZOFFSETTO:+0200
TZNAME:CEST
DTSTART:20260329T010000
END:DAYLIGHT
BEGIN:STANDARD
TZOFFSETFROM:+0200
TZOFFSETTO:+0100
TZNAME:CET
DTSTART:20261025T010000
END:STANDARD
BEGIN:DAYLIGHT
TZOFFSETFROM:+0100
TZOFFSETTO:+0200
TZNAME:CEST
DTSTART:20270328T010000
END:DAYLIGHT
BEGIN:STANDARD
TZOFFSETFROM:+0200
TZOFFSETTO:+0100
TZNAME:CET
DTSTART:20271031T010000
END:STANDARD
END:VTIMEZONE
BEGIN:VEVENT
DTSTART;VALUE=DATE:20261113
DTEND;VALUE=DATE:20261117
DTSTAMP:20260420T213217
CREATED:20260330T190652Z
LAST-MODIFIED:20260330T192104Z
UID:34393-1794528000-1794873599@www.semraplus.ch
SUMMARY:St-Martin - Gâteau aux patates
DESCRIPTION:
URL:https://www.semraplus.ch/event/st-martin-gateau-aux-patates/
LOCATION:Porrentruy\, Porrentruy\, Jura\, 2900\, Switzerland
CATEGORIES:Gâteau aux patates
END:VEVENT
END:VCALENDAR